BEGIN:VCALENDAR
VERSION:2.0
PRODID:-//AL-QALAM INTERNATIONAL SCHOOL - ECPv6.15.20//NONSGML v1.0//EN
CALSCALE:GREGORIAN
METHOD:PUBLISH
X-ORIGINAL-URL:https://aqis.qalamschools.org
X-WR-CALDESC:Events for AL-QALAM INTERNATIONAL SCHOOL
REFRESH-INTERVAL;VALUE=DURATION:PT1H
X-Robots-Tag:noindex
X-PUBLISHED-TTL:PT1H
BEGIN:VTIMEZONE
TZID:Asia/Kolkata
BEGIN:STANDARD
TZOFFSETFROM:+0530
TZOFFSETTO:+0530
TZNAME:IST
DTSTART:20230101T000000
END:STANDARD
END:VTIMEZONE
BEGIN:VEVENT
DTSTART;VALUE=DATE:20241007
DTEND;VALUE=DATE:20241008
DTSTAMP:20260422T073931
CREATED:20240918T084040Z
LAST-MODIFIED:20240918T084040Z
UID:2417-1728259200-1728345599@aqis.qalamschools.org
SUMMARY:Blue Colour Day
DESCRIPTION:KG
URL:https://aqis.qalamschools.org/event/blue-colour-day/
LOCATION:Al Qalam International School – CBSE\, Al Qalam International School - CBSE\, Ramanathapuram\, Tamilnadu\, 623536\, India
CATEGORIES:Event
ORGANIZER;CN="Al Qalam International School":MAILTO:alqalamschoolpgm@gmail.com
END:VEVENT
BEGIN:VEVENT
DTSTART;VALUE=DATE:20241019
DTEND;VALUE=DATE:20241020
DTSTAMP:20260422T073931
CREATED:20240918T084133Z
LAST-MODIFIED:20240918T084133Z
UID:2419-1729296000-1729382399@aqis.qalamschools.org
SUMMARY:PTA Meeting
DESCRIPTION:
URL:https://aqis.qalamschools.org/event/pta-meeting/
LOCATION:Al Qalam International School – CBSE\, Al Qalam International School - CBSE\, Ramanathapuram\, Tamilnadu\, 623536\, India
CATEGORIES:Event
ORGANIZER;CN="Al Qalam International School":MAILTO:alqalamschoolpgm@gmail.com
END:VEVENT
BEGIN:VEVENT
DTSTART;VALUE=DATE:20241023
DTEND;VALUE=DATE:20241024
DTSTAMP:20260422T073931
CREATED:20240918T084226Z
LAST-MODIFIED:20240918T084226Z
UID:2421-1729641600-1729727999@aqis.qalamschools.org
SUMMARY:Sandwich Day-KG’s
DESCRIPTION:
URL:https://aqis.qalamschools.org/event/sandwich-day-kgs/
LOCATION:Al Qalam International School – CBSE\, Al Qalam International School - CBSE\, Ramanathapuram\, Tamilnadu\, 623536\, India
CATEGORIES:Event
ORGANIZER;CN="Al Qalam International School":MAILTO:alqalamschoolpgm@gmail.com
END:VEVENT
END:VCALENDAR