BEGIN:VCALENDAR
VERSION:2.0
PRODID:-//AL-QALAM INTERNATIONAL SCHOOL - ECPv6.15.20//NONSGML v1.0//EN
CALSCALE:GREGORIAN
METHOD:PUBLISH
X-WR-CALNAME:AL-QALAM INTERNATIONAL SCHOOL
X-ORIGINAL-URL:https://aqis.qalamschools.org
X-WR-CALDESC:Events for AL-QALAM INTERNATIONAL SCHOOL
REFRESH-INTERVAL;VALUE=DURATION:PT1H
X-Robots-Tag:noindex
X-PUBLISHED-TTL:PT1H
BEGIN:VTIMEZONE
TZID:Asia/Kolkata
BEGIN:STANDARD
TZOFFSETFROM:+0530
TZOFFSETTO:+0530
TZNAME:IST
DTSTART:20210101T000000
END:STANDARD
END:VTIMEZONE
BEGIN:VTIMEZONE
TZID:UTC
BEGIN:STANDARD
TZOFFSETFROM:+0000
TZOFFSETTO:+0000
TZNAME:UTC
DTSTART:20200101T000000
END:STANDARD
END:VTIMEZONE
BEGIN:VEVENT
DTSTART;VALUE=DATE:20220830
DTEND;VALUE=DATE:20220831
DTSTAMP:20260421T200450
CREATED:20220825T091254Z
LAST-MODIFIED:20230110T071117Z
UID:1356-1661817600-1661903999@aqis.qalamschools.org
SUMMARY:Annual Science Expo -2022
DESCRIPTION:
URL:https://aqis.qalamschools.org/event/annual-science-expo-2022/
LOCATION:Tamilnadu
CATEGORIES:Event
ATTACH;FMTTYPE=image/png:https://aqis.qalamschools.org/wp-content/uploads/2022/08/5984238-ai-1.png
ORGANIZER;CN="Al Qalam International School":MAILTO:alqalamschoolpgm@gmail.com
END:VEVENT
BEGIN:VEVENT
DTSTART;TZID=UTC:20220228T100000
DTEND;TZID=UTC:20220228T130000
DTSTAMP:20260421T200450
CREATED:20220221T041301Z
LAST-MODIFIED:20220221T043519Z
UID:1019-1646042400-1646053200@aqis.qalamschools.org
SUMMARY:Food Fest - 2022
DESCRIPTION:
URL:https://aqis.qalamschools.org/event/food-fest-2022/
LOCATION:Al Qalam International School – CBSE\, Al Qalam International School - CBSE\, Ramanathapuram\, Tamilnadu\, 623536\, India
CATEGORIES:Important Days
ATTACH;FMTTYPE=image/jpeg:https://aqis.qalamschools.org/wp-content/uploads/2022/02/274012933_1046998769494582_2489898662136328037_n.jpg
END:VEVENT
BEGIN:VEVENT
DTSTART;VALUE=DATE:20211225
DTEND;VALUE=DATE:20211226
DTSTAMP:20260421T200450
CREATED:20210423T010901Z
LAST-MODIFIED:20210423T011228Z
UID:763-1640390400-1640476799@aqis.qalamschools.org
SUMMARY:Christmas
DESCRIPTION:Christmas is an annual festival commemorating the birth of Jesus Christ\, observed primarily on December 25 as a religious and cultural celebration by billions of people around the world.
URL:https://aqis.qalamschools.org/event/christmas-eve/
LOCATION:Tamilnadu
CATEGORIES:Holidays
ATTACH;FMTTYPE=image/jpeg:https://aqis.qalamschools.org/wp-content/uploads/2021/04/cover-photo-short-christmas-greetings.jpg
END:VEVENT
BEGIN:VEVENT
DTSTART;VALUE=DATE:20211126
DTEND;VALUE=DATE:20211127
DTSTAMP:20260421T200450
CREATED:20211124T014408Z
LAST-MODIFIED:20211124T014408Z
UID:889-1637884800-1637971199@aqis.qalamschools.org
SUMMARY:Constitution Day of India
DESCRIPTION:Constitution Day\, also known as National Law Day\, is celebrated in India on 26 November every year to commemorate the adoption of the Constitution of India. On 26 November 1949\, the Constituent Assembly of India adopted to the Constitution of India\, and it came into effect on 26 January 1950.  \nSource: Wikipedia
URL:https://aqis.qalamschools.org/event/constitution-day-of-india/
LOCATION:Tamilnadu
CATEGORIES:Important Days
ATTACH;FMTTYPE=image/jpeg:https://aqis.qalamschools.org/wp-content/uploads/2021/11/constitution-day-2019-november-26.jpg
END:VEVENT
BEGIN:VEVENT
DTSTART;VALUE=DATE:20211104
DTEND;VALUE=DATE:20211105
DTSTAMP:20260421T200450
CREATED:20210423T010651Z
LAST-MODIFIED:20210423T010716Z
UID:760-1635984000-1636070399@aqis.qalamschools.org
SUMMARY:Diwali/Deepavali
DESCRIPTION:Diwali is a festival of lights and one of the major festivals celebrated by Hindus\, Jains\, Sikhs and some Buddhist\, notably Newar Buddhist. The festival usually lasts five days and is celebrated during the Hindu lunisolar month Kartika
URL:https://aqis.qalamschools.org/event/diwali-deepavali/
LOCATION:Tamilnadu
CATEGORIES:Holidays
ATTACH;FMTTYPE=image/jpeg:https://aqis.qalamschools.org/wp-content/uploads/2021/04/maxresdefault.jpg
END:VEVENT
BEGIN:VEVENT
DTSTART;VALUE=DATE:20211019
DTEND;VALUE=DATE:20211020
DTSTAMP:20260421T200450
CREATED:20210423T010409Z
LAST-MODIFIED:20210423T010409Z
UID:757-1634601600-1634687999@aqis.qalamschools.org
SUMMARY:Milad un-Nabi
DESCRIPTION:Mawlid\, Mawlid an-Nabi ash-Sharif or Eid Milad un Nabi is the observance of the birthday of the Islamic prophet Muhammad which is commemorated in Rabi’ al-awwal\, the third month in the Islamic calendar.
URL:https://aqis.qalamschools.org/event/milad-un-nabi/
LOCATION:Tamilnadu
CATEGORIES:Holidays
ATTACH;FMTTYPE=image/jpeg:https://aqis.qalamschools.org/wp-content/uploads/2021/04/Eid-Milad-Un-Nabi-Mubarak-Wishes.jpg
END:VEVENT
BEGIN:VEVENT
DTSTART;VALUE=DATE:20211002
DTEND;VALUE=DATE:20211003
DTSTAMP:20260421T200450
CREATED:20210423T010112Z
LAST-MODIFIED:20210423T010112Z
UID:755-1633132800-1633219199@aqis.qalamschools.org
SUMMARY:Mahatma Gandhi Jayanti
DESCRIPTION:Gandhi Jayanti is an event celebrated in India to mark the birthday of Mahatma Gandhi. It is celebrated annually on 2 October\, and it is one of the three national holidays of Indi
URL:https://aqis.qalamschools.org/event/mahatma-gandhi-jayanti/
LOCATION:Tamilnadu
CATEGORIES:Holidays
ATTACH;FMTTYPE=image/png:https://aqis.qalamschools.org/wp-content/uploads/2020/09/Gandhi-Jayanti.png
END:VEVENT
BEGIN:VEVENT
DTSTART;VALUE=DATE:20210910
DTEND;VALUE=DATE:20210911
DTSTAMP:20260421T200450
CREATED:20210423T010005Z
LAST-MODIFIED:20210423T010005Z
UID:752-1631232000-1631318399@aqis.qalamschools.org
SUMMARY:Ganesh Chaturthi/Vinayaka Chaturthi
DESCRIPTION:Ganesh Chaturthi\, also known as Vinayaka Chaturthi\, is a Hindu festival celebrating the arrival of Ganesh to earth from Kailash Parvat with his mother Goddess Parvati/Gauri.
URL:https://aqis.qalamschools.org/event/ganesh-chaturthi-vinayaka-chaturthi/
LOCATION:Tamilnadu
CATEGORIES:Holidays
ATTACH;FMTTYPE=image/jpeg:https://aqis.qalamschools.org/wp-content/uploads/2021/04/ganesh-chaturthi-vinayaka-chaturthi-hindu-festival-celebrating-arrival-ganesha-earth-horizontal-banner-template-gold-contour-image-ganesha-with-elephant-head-mandala-ornament_135869-266.jpg
END:VEVENT
BEGIN:VEVENT
DTSTART;VALUE=DATE:20210821
DTEND;VALUE=DATE:20210822
DTSTAMP:20260421T200450
CREATED:20210423T005741Z
LAST-MODIFIED:20210423T005741Z
UID:749-1629504000-1629590399@aqis.qalamschools.org
SUMMARY:Onam
DESCRIPTION:Onam is an annual Hindu festival celebrated in southern Indian state of Kerala. It is a harvest festival celebrated by Malayalis whose date is based on the Panchangam and falls on the 22nd nakshatra Thiruvonam in the month Chingam of Malayalam calendar\, which in Gregorian calendar overlaps with August–September.
URL:https://aqis.qalamschools.org/event/onam/
LOCATION:Tamilnadu
CATEGORIES:Holidays
ATTACH;FMTTYPE=image/jpeg:https://aqis.qalamschools.org/wp-content/uploads/2021/04/happy-onam-image.jpg
END:VEVENT
BEGIN:VEVENT
DTSTART;VALUE=DATE:20210819
DTEND;VALUE=DATE:20210820
DTSTAMP:20260421T200450
CREATED:20210423T005615Z
LAST-MODIFIED:20210423T005615Z
UID:747-1629331200-1629417599@aqis.qalamschools.org
SUMMARY:Muharram/Ashura
DESCRIPTION:Muḥarram is the first month of the Islamic calendar. It is one of the four sacred months of the year when warfare is forbidden. It is held to be the second holiest month\, after Ramaḍān. The Tenth day of Muharram is known as the Day of Ashura.
URL:https://aqis.qalamschools.org/event/muharram-ashura/
LOCATION:Tamilnadu
CATEGORIES:Holidays
ATTACH;FMTTYPE=image/jpeg:https://aqis.qalamschools.org/wp-content/uploads/2020/09/pngtree-happy-muharram-mubarak-islamic-background-image_299610.jpg
END:VEVENT
BEGIN:VEVENT
DTSTART;VALUE=DATE:20210815
DTEND;VALUE=DATE:20210816
DTSTAMP:20260421T200450
CREATED:20210423T005404Z
LAST-MODIFIED:20210423T005404Z
UID:743-1628985600-1629071999@aqis.qalamschools.org
SUMMARY:Independence Day
DESCRIPTION:The Independence Day of India\, which is celebrated religiously throughout the Country on the 15th of August every year\, holds tremendous ground in the list of national days\, since it reminds every Indian about the dawn of a new beginning\, the beginning of an era of deliverance from the clutches of British colonialism of more than 200 years. It was on 15th August 1947 that India was declared independent from British colonialism\, and the reins of control were handed over to the leaders of the Country. India’s gaining of independence was a tryst with destiny\, as the struggle for freedom was a long and tiresome one\, witnessing the sacrifices of many freedom fighters\, who laid down their lives on the line.
URL:https://aqis.qalamschools.org/event/independence-day/
LOCATION:Tamilnadu
CATEGORIES:Holidays
ATTACH;FMTTYPE=image/jpeg:https://aqis.qalamschools.org/wp-content/uploads/2021/04/thequint_2019-08_c9df8df5-511d-45a7-bb02-fc9d5e3e556e_iStock_1015589218.jpg
ORGANIZER;CN="Al Qalam International School":MAILTO:alqalamschoolpgm@gmail.com
END:VEVENT
BEGIN:VEVENT
DTSTART;VALUE=DATE:20210721
DTEND;VALUE=DATE:20210722
DTSTAMP:20260421T200450
CREATED:20210423T004928Z
LAST-MODIFIED:20210423T004928Z
UID:740-1626825600-1626911999@aqis.qalamschools.org
SUMMARY:Bakr Id/Eid ul-Adha
DESCRIPTION:Eid al-Adha is the latter of the two Islamic holidays celebrated worldwide each year\, . Also called Tabaski\, it honours the willingness of Ibrahim to sacrifice his son Ismael as an act of obedience to God’s command. Before Ibrahim could sacrifice his son\, however\, Allah provided a lamb to sacrifice instead.
URL:https://aqis.qalamschools.org/event/bakr-id-eid-ul-adha/
LOCATION:Tamilnadu
CATEGORIES:Holidays
ATTACH;FMTTYPE=image/jpeg:https://aqis.qalamschools.org/wp-content/uploads/2021/04/eid-al-adha-mubarak.jpg
END:VEVENT
BEGIN:VEVENT
DTSTART;VALUE=DATE:20210514
DTEND;VALUE=DATE:20210515
DTSTAMP:20260421T200450
CREATED:20210423T003850Z
LAST-MODIFIED:20210423T003935Z
UID:733-1620950400-1621036799@aqis.qalamschools.org
SUMMARY:Ramzan Id/Eid-ul-Fitar
DESCRIPTION:Eid al-Fitr\, also called the “Festival of Breaking the Fast”\, is a religious holiday celebrated by Muslims worldwide that marks the end of the month-long dawn-to-sunset fasting of Ramadan. This religious Eid is the only day in the month of Shawwal during which Muslims are not permitted to fast.
URL:https://aqis.qalamschools.org/event/ramzan-id-eid-ul-fitar/
LOCATION:Tamilnadu
CATEGORIES:Holidays
ATTACH;FMTTYPE=image/jpeg:https://aqis.qalamschools.org/wp-content/uploads/2021/04/istockphoto-1152007743-612x612-1.jpg
END:VEVENT
BEGIN:VEVENT
DTSTART;VALUE=DATE:20210425
DTEND;VALUE=DATE:20210426
DTSTAMP:20260421T200450
CREATED:20210423T004214Z
LAST-MODIFIED:20210423T004214Z
UID:737-1619308800-1619395199@aqis.qalamschools.org
SUMMARY:Mahavir Jayanti
DESCRIPTION:Mahavir Janma Kalyanak is one of the most important religious festivals in Jainism. It celebrates the birth of Mahavir\, the twenty-fourth and last Tirthankara of present Avasarpiṇī. On the Gregorian calendar\, the holiday occurs either in March or April.
URL:https://aqis.qalamschools.org/event/mahavir-jayanti/
LOCATION:Tamilnadu
CATEGORIES:Holidays
ATTACH;FMTTYPE=image/jpeg:https://aqis.qalamschools.org/wp-content/uploads/2021/04/16_04_2019-mahavir_19138618.jpg
END:VEVENT
END:VCALENDAR